BEGIN:VCALENDAR
VERSION:2.0
PRODID:-//https://encirclefamilies.org//EN
CALSCALE:GREGORIAN
METHOD:PUBLISH
BEGIN:VEVENT
UID:event-15841@encirclefamilies.org
DTSTAMP:20260423T105526Z
DTSTART;TZID=America/Phoenix:20260416T093000
DTEND;TZID=America/Phoenix:20260416T113000
SUMMARY:Positive Behavior Support
LOCATION:RSD Wellness Center, East Baseline Road, Phoenix, AZ, USA
DESCRIPTION:In this introductory class, you’ll learn about the practice of Positive Behavior Support and discover how it can help you reduce unwanted behavior and increase preferred behavior in your child.    PBS is more than just a strategy; it’s a philosophy that empowers you to understand the role you play in your child’s behavior. Whether it’s at home or in school, PBS equips you with tools to create an environment that fosters positive behaviors while addressing challenges that may arise.    During these 2-hours you’ll gain insights into how to collaborate effectively with your child’s school when behaviors interfere with learning. We’ll also explore practical approaches and friendly techniques to navigate through some common behavior-related hurdles.
END:VEVENT
END:VCALENDAR