BEGIN:VCALENDAR
VERSION:2.0
PRODID:-//https://encirclefamilies.org//EN
CALSCALE:GREGORIAN
METHOD:PUBLISH
BEGIN:VEVENT
UID:event-15933@encirclefamilies.org
DTSTAMP:20260421T084109Z
DTSTART;TZID=America/Phoenix:20260603T180000
DTEND;TZID=America/Phoenix:20260603T200000
SUMMARY:Educación en la primera infancia: del nacimiento al kinder
DESCRIPTION:Aprenda sobre los servicios para niños con discapacidades o retrasos, los conceptos básicos del IFSP yel proceso de transición de los servicios de intervención temprana al preescolar. Comprender el procesode evaluación y elegibilidad para un IEP y los servicios proporcionados por las escuelas públicasy chárter.
END:VEVENT
END:VCALENDAR